BEGIN:VCALENDAR
VERSION:2.0
PRODID:-//hacksw/handcal//NONSGML v1.0//EN
BEGIN:VEVENT
DTSTAMP:20200722T140000Z
DTSTART:20200722T140000Z
DTEND:20200722T160000Z
LOCATION:Schwingelerweg 44, Wesseling, 50389, Deutschland
SUMMARY:Podiumsdiskussion mit Ina Scharrenbach & Engels-Welter, Stupp, Weitzel
END:VEVENT
END:VCALENDAR
